BEGIN:VCALENDAR
VERSION:2.0
PRODID:-//Calgary Black Film Festival - ECPv6.15.20//NONSGML v1.0//EN
CALSCALE:GREGORIAN
METHOD:PUBLISH
X-WR-CALNAME:Calgary Black Film Festival
X-ORIGINAL-URL:https://calgaryblackfilm.com
X-WR-CALDESC:Events for Calgary Black Film Festival
REFRESH-INTERVAL;VALUE=DURATION:PT1H
X-Robots-Tag:noindex
X-PUBLISHED-TTL:PT1H
BEGIN:VTIMEZONE
TZID:Atlantic/Azores
BEGIN:DAYLIGHT
TZOFFSETFROM:-0100
TZOFFSETTO:+0000
TZNAME:+00
DTSTART:20250330T010000
END:DAYLIGHT
BEGIN:STANDARD
TZOFFSETFROM:+0000
TZOFFSETTO:-0100
TZNAME:-01
DTSTART:20251026T010000
END:STANDARD
BEGIN:DAYLIGHT
TZOFFSETFROM:-0100
TZOFFSETTO:+0000
TZNAME:+00
DTSTART:20260329T010000
END:DAYLIGHT
BEGIN:STANDARD
TZOFFSETFROM:+0000
TZOFFSETTO:-0100
TZNAME:-01
DTSTART:20261025T010000
END:STANDARD
BEGIN:DAYLIGHT
TZOFFSETFROM:-0100
TZOFFSETTO:+0000
TZNAME:+00
DTSTART:20270328T010000
END:DAYLIGHT
BEGIN:STANDARD
TZOFFSETFROM:+0000
TZOFFSETTO:-0100
TZNAME:-01
DTSTART:20271031T010000
END:STANDARD
END:VTIMEZONE
BEGIN:VEVENT
DTSTART;TZID=Atlantic/Azores:20260522T220000
DTEND;TZID=Atlantic/Azores:20260522T220000
DTSTAMP:20260423T231918
CREATED:20260423T142254Z
LAST-MODIFIED:20260423T175355Z
UID:5936-1779487200-1779487200@calgaryblackfilm.com
SUMMARY:After Party
DESCRIPTION:[vc_row][vc_column]    \n    	\n                	Description                \n        \n    \n    [vc_column_text css=””]CBFF 6TH EDITION AFTER PARTY  at The Derrick Gin Mill & Kitchen \nJoin us for the exciting launch of the Calgary Black Film Festival’s 6th Edition with a vibrant After Party! Enjoy an electrifying atmosphere with a live DJ spinning great music\, delicious canapés\, and a vibrant crowd of filmmakers\, artists\, and film lovers.[/vc_column_text][/vc_column][/vc_row][vc_row full_width=”stretch_row” leaf_row_scheme=”1″ css=”.vc_custom_1745973173414{background-color: #00305A !important;background-position: center !important;background-repeat: no-repeat !important;background-size: cover !important;}”][vc_column][vc_column_text css=””] \nJOIN US!\n[/vc_column_text][/vc_column][/vc_row]
URL:https://calgaryblackfilm.com/event/after-party/
LOCATION:The Derrick Gin Mill & Kitchen\, 620 8 Ave SW #102\, Calgary\, Alberta\, T2P 1G6\, Canada
CATEGORIES:CBFF 2026 Events,Opening Night 2026,Schedule 2026
ATTACH;FMTTYPE=image/png:https://calgaryblackfilm.com/wp-content/uploads/2026/04/CBFF-afterparty-photo.png
END:VEVENT
END:VCALENDAR